BEGIN:VCALENDAR
VERSION:2.0
PRODID:-//Blessed Sacrament School - Brant - ECPv6.15.7//NONSGML v1.0//EN
CALSCALE:GREGORIAN
METHOD:PUBLISH
X-WR-CALNAME:Blessed Sacrament School - Brant
X-ORIGINAL-URL:https://bbss1.bhncdsb.ca
X-WR-CALDESC:Events for Blessed Sacrament School - Brant
REFRESH-INTERVAL;VALUE=DURATION:PT1H
X-Robots-Tag:noindex
X-PUBLISHED-TTL:PT1H
BEGIN:VTIMEZONE
TZID:America/Toronto
BEGIN:DAYLIGHT
TZOFFSETFROM:-0500
TZOFFSETTO:-0400
TZNAME:EDT
DTSTART:20250309T070000
END:DAYLIGHT
BEGIN:STANDARD
TZOFFSETFROM:-0400
TZOFFSETTO:-0500
TZNAME:EST
DTSTART:20251102T060000
END:STANDARD
BEGIN:DAYLIGHT
TZOFFSETFROM:-0500
TZOFFSETTO:-0400
TZNAME:EDT
DTSTART:20260308T070000
END:DAYLIGHT
BEGIN:STANDARD
TZOFFSETFROM:-0400
TZOFFSETTO:-0500
TZNAME:EST
DTSTART:20261101T060000
END:STANDARD
BEGIN:DAYLIGHT
TZOFFSETFROM:-0500
TZOFFSETTO:-0400
TZNAME:EDT
DTSTART:20270314T070000
END:DAYLIGHT
BEGIN:STANDARD
TZOFFSETFROM:-0400
TZOFFSETTO:-0500
TZNAME:EST
DTSTART:20271107T060000
END:STANDARD
END:VTIMEZONE
BEGIN:VEVENT
DTSTART;VALUE=DATE:20260422
DTEND;VALUE=DATE:20260423
DTSTAMP:20260420T075056
CREATED:20260312T134608Z
LAST-MODIFIED:20260312T134608Z
UID:250750-1776816000-1776902399@bbss1.bhncdsb.ca
SUMMARY:Earth Day
DESCRIPTION:
URL:https://bbss1.bhncdsb.ca/event/earth-day/
END:VEVENT
BEGIN:VEVENT
DTSTART;VALUE=DATE:20260423
DTEND;VALUE=DATE:20260424
DTSTAMP:20260420T075056
CREATED:20260312T134642Z
LAST-MODIFIED:20260312T134642Z
UID:250752-1776902400-1776988799@bbss1.bhncdsb.ca
SUMMARY:Sr. Volleyball tourny - Assumption
DESCRIPTION:
URL:https://bbss1.bhncdsb.ca/event/sr-volleyball-tourny-assumption/
END:VEVENT
BEGIN:VEVENT
DTSTART;VALUE=DATE:20260424
DTEND;VALUE=DATE:20260425
DTSTAMP:20260420T075056
CREATED:20250827T193303Z
LAST-MODIFIED:20250827T193303Z
UID:250200-1776988800-1777075199@bbss1.bhncdsb.ca
SUMMARY:LunchBox Hot Lunch - Robby's Pizza
DESCRIPTION:
URL:https://bbss1.bhncdsb.ca/event/lunchbox-hot-lunch-robbys-pizza-4/
END:VEVENT
BEGIN:VEVENT
DTSTART;VALUE=DATE:20260428
DTEND;VALUE=DATE:20260429
DTSTAMP:20260420T075056
CREATED:20260312T134710Z
LAST-MODIFIED:20260312T134710Z
UID:250754-1777334400-1777420799@bbss1.bhncdsb.ca
SUMMARY:Indigenous Hoop Dance presentation
DESCRIPTION:
URL:https://bbss1.bhncdsb.ca/event/indigenous-hoop-dance-presentation/
END:VEVENT
BEGIN:VEVENT
DTSTART;VALUE=DATE:20260501
DTEND;VALUE=DATE:20260502
DTSTAMP:20260420T075056
CREATED:20250827T194300Z
LAST-MODIFIED:20250827T194300Z
UID:250226-1777593600-1777679999@bbss1.bhncdsb.ca
SUMMARY:LunchBox Hot Lunch - Alice's Subs
DESCRIPTION:
URL:https://bbss1.bhncdsb.ca/event/lunchbox-hot-lunch-alices-subs-4/
END:VEVENT
BEGIN:VEVENT
DTSTART;VALUE=DATE:20260503
DTEND;VALUE=DATE:20260504
DTSTAMP:20260420T075056
CREATED:20260326T132631Z
LAST-MODIFIED:20260326T132631Z
UID:250814-1777766400-1777852799@bbss1.bhncdsb.ca
SUMMARY:First Communion
DESCRIPTION:
URL:https://bbss1.bhncdsb.ca/event/first-communion/
END:VEVENT
BEGIN:VEVENT
DTSTART;VALUE=DATE:20260504
DTEND;VALUE=DATE:20260509
DTSTAMP:20260420T075056
CREATED:20260331T174216Z
LAST-MODIFIED:20260331T174216Z
UID:250838-1777852800-1778284799@bbss1.bhncdsb.ca
SUMMARY:Catholic Education Week
DESCRIPTION:
URL:https://bbss1.bhncdsb.ca/event/catholic-education-week-2/
END:VEVENT
BEGIN:VEVENT
DTSTART;VALUE=DATE:20260505
DTEND;VALUE=DATE:20260506
DTSTAMP:20260420T075056
CREATED:20260312T135646Z
LAST-MODIFIED:20260415T135429Z
UID:250756-1777939200-1778025599@bbss1.bhncdsb.ca
SUMMARY:Cross Country - Mohawk Park
DESCRIPTION:
URL:https://bbss1.bhncdsb.ca/event/cross-country-mohawk-park/
END:VEVENT
BEGIN:VEVENT
DTSTART;VALUE=DATE:20260505
DTEND;VALUE=DATE:20260506
DTSTAMP:20260420T075056
CREATED:20260312T135746Z
LAST-MODIFIED:20260312T135746Z
UID:250758-1777939200-1778025599@bbss1.bhncdsb.ca
SUMMARY:Celebration of Art Sander Center
DESCRIPTION:
URL:https://bbss1.bhncdsb.ca/event/celebration-of-art-sander-center/
END:VEVENT
BEGIN:VEVENT
DTSTART;VALUE=DATE:20260505
DTEND;VALUE=DATE:20260509
DTSTAMP:20260420T075056
CREATED:20260331T174304Z
LAST-MODIFIED:20260407T180557Z
UID:250840-1777939200-1778284799@bbss1.bhncdsb.ca
SUMMARY:Scholastic Book Fair
DESCRIPTION:
URL:https://bbss1.bhncdsb.ca/event/scholastic-book-fair-starts/
END:VEVENT
BEGIN:VEVENT
DTSTART;VALUE=DATE:20260506
DTEND;VALUE=DATE:20260507
DTSTAMP:20260420T075056
CREATED:20260312T135912Z
LAST-MODIFIED:20260312T135912Z
UID:250762-1778025600-1778111999@bbss1.bhncdsb.ca
SUMMARY:Glenhurst - Gr. 6\, 7\, 8
DESCRIPTION:
URL:https://bbss1.bhncdsb.ca/event/glenhurst-gr-6-7-8/
END:VEVENT
BEGIN:VEVENT
DTSTART;TZID=America/Toronto:20260506T160000
DTEND;TZID=America/Toronto:20260506T173000
DTSTAMP:20260420T075056
CREATED:20260312T135837Z
LAST-MODIFIED:20260312T135837Z
UID:250760-1778083200-1778088600@bbss1.bhncdsb.ca
SUMMARY:Welcome to Kindergarten
DESCRIPTION:
URL:https://bbss1.bhncdsb.ca/event/welcome-to-kindergarten/
END:VEVENT
BEGIN:VEVENT
DTSTART;VALUE=DATE:20260508
DTEND;VALUE=DATE:20260509
DTSTAMP:20260420T075056
CREATED:20250827T194330Z
LAST-MODIFIED:20250827T194330Z
UID:250228-1778198400-1778284799@bbss1.bhncdsb.ca
SUMMARY:LunchBox Hot Lunch - Alice's Chicken Fingers
DESCRIPTION:
URL:https://bbss1.bhncdsb.ca/event/lunchbox-hot-lunch-alices-chicken-fingers-4/
END:VEVENT
BEGIN:VEVENT
DTSTART;VALUE=DATE:20260508
DTEND;VALUE=DATE:20260509
DTSTAMP:20260420T075056
CREATED:20260312T135932Z
LAST-MODIFIED:20260312T135932Z
UID:250764-1778198400-1778284799@bbss1.bhncdsb.ca
SUMMARY:Mother's Day Tea
DESCRIPTION:
URL:https://bbss1.bhncdsb.ca/event/mothers-day-tea/
END:VEVENT
BEGIN:VEVENT
DTSTART;VALUE=DATE:20260510
DTEND;VALUE=DATE:20260511
DTSTAMP:20260420T075056
CREATED:20250827T194134Z
LAST-MODIFIED:20250827T194134Z
UID:250222-1778371200-1778457599@bbss1.bhncdsb.ca
SUMMARY:Mother's Day
DESCRIPTION:
URL:https://bbss1.bhncdsb.ca/event/mothers-day-2/
END:VEVENT
BEGIN:VEVENT
DTSTART;VALUE=DATE:20260513
DTEND;VALUE=DATE:20260514
DTSTAMP:20260420T075056
CREATED:20260312T140000Z
LAST-MODIFIED:20260312T140000Z
UID:250766-1778630400-1778716799@bbss1.bhncdsb.ca
SUMMARY:Gr. 3/4 & 4/5 - Waterfestival
DESCRIPTION:
URL:https://bbss1.bhncdsb.ca/event/gr-3-4-4-5-waterfestival/
END:VEVENT
BEGIN:VEVENT
DTSTART;VALUE=DATE:20260515
DTEND;VALUE=DATE:20260516
DTSTAMP:20260420T075056
CREATED:20250827T194402Z
LAST-MODIFIED:20251028T150310Z
UID:250230-1778803200-1778889599@bbss1.bhncdsb.ca
SUMMARY:Cancelled - LunchBox Hot Lunch
DESCRIPTION:PK’s was cancelled – no longer in business
URL:https://bbss1.bhncdsb.ca/event/lunchbox-hot-lunch-pks-pasta-2/
END:VEVENT
BEGIN:VEVENT
DTSTART;VALUE=DATE:20260515
DTEND;VALUE=DATE:20260516
DTSTAMP:20260420T075056
CREATED:20260312T140036Z
LAST-MODIFIED:20260312T140036Z
UID:250768-1778803200-1778889599@bbss1.bhncdsb.ca
SUMMARY:Jump Rope Event
DESCRIPTION:
URL:https://bbss1.bhncdsb.ca/event/jump-rope-event/
END:VEVENT
BEGIN:VEVENT
DTSTART;VALUE=DATE:20260518
DTEND;VALUE=DATE:20260519
DTSTAMP:20260420T075057
CREATED:20250827T194204Z
LAST-MODIFIED:20250827T194852Z
UID:250224-1779062400-1779148799@bbss1.bhncdsb.ca
SUMMARY:Victoria Day
DESCRIPTION:
URL:https://bbss1.bhncdsb.ca/event/victoria-day-2/
END:VEVENT
BEGIN:VEVENT
DTSTART;VALUE=DATE:20260519
DTEND;VALUE=DATE:20260520
DTSTAMP:20260420T075057
CREATED:20260415T135542Z
LAST-MODIFIED:20260415T135542Z
UID:250867-1779148800-1779235199@bbss1.bhncdsb.ca
SUMMARY:Gr. 6/7 Class Trip- Woodland Cultural Centre
DESCRIPTION:
URL:https://bbss1.bhncdsb.ca/event/gr-6-7-class-trip-woodland-cultural-centre/
END:VEVENT
BEGIN:VEVENT
DTSTART;VALUE=DATE:20260522
DTEND;VALUE=DATE:20260523
DTSTAMP:20260420T075057
CREATED:20250827T194429Z
LAST-MODIFIED:20250827T194429Z
UID:250232-1779408000-1779494399@bbss1.bhncdsb.ca
SUMMARY:LunchBox Hot Lunch - Alice's Pasta
DESCRIPTION:
URL:https://bbss1.bhncdsb.ca/event/lunchbox-hot-lunch-alices-pasta-5/
END:VEVENT
BEGIN:VEVENT
DTSTART;VALUE=DATE:20260522
DTEND;VALUE=DATE:20260523
DTSTAMP:20260420T075057
CREATED:20260331T174841Z
LAST-MODIFIED:20260331T174841Z
UID:250843-1779408000-1779494399@bbss1.bhncdsb.ca
SUMMARY:School Track & Field - Holy Trinity
DESCRIPTION:
URL:https://bbss1.bhncdsb.ca/event/school-track-field-holy-trinity/
END:VEVENT
BEGIN:VEVENT
DTSTART;VALUE=DATE:20260525
DTEND;VALUE=DATE:20260605
DTSTAMP:20260420T075057
CREATED:20260331T174921Z
LAST-MODIFIED:20260331T174921Z
UID:250845-1779667200-1780617599@bbss1.bhncdsb.ca
SUMMARY:EQAO
DESCRIPTION:
URL:https://bbss1.bhncdsb.ca/event/eqao/
END:VEVENT
BEGIN:VEVENT
DTSTART;VALUE=DATE:20260526
DTEND;VALUE=DATE:20260529
DTSTAMP:20260420T075057
CREATED:20260312T140108Z
LAST-MODIFIED:20260312T140108Z
UID:250770-1779753600-1780012799@bbss1.bhncdsb.ca
SUMMARY:Grade 8 - Tim Horton's Camp
DESCRIPTION:
URL:https://bbss1.bhncdsb.ca/event/grade-8-tim-hortons-camp/
END:VEVENT
BEGIN:VEVENT
DTSTART;VALUE=DATE:20260529
DTEND;VALUE=DATE:20260530
DTSTAMP:20260420T075057
CREATED:20250827T194459Z
LAST-MODIFIED:20250827T194459Z
UID:250234-1780012800-1780099199@bbss1.bhncdsb.ca
SUMMARY:LunchBox Hot Lunch - Alice's Burgers
DESCRIPTION:
URL:https://bbss1.bhncdsb.ca/event/lunchbox-hot-lunch-alices-burgers-5/
END:VEVENT
BEGIN:VEVENT
DTSTART;VALUE=DATE:20260601
DTEND;VALUE=DATE:20260602
DTSTAMP:20260420T075057
CREATED:20260312T140204Z
LAST-MODIFIED:20260312T140204Z
UID:250772-1780272000-1780358399@bbss1.bhncdsb.ca
SUMMARY:Swim to Survive - Gr. 7
DESCRIPTION:
URL:https://bbss1.bhncdsb.ca/event/swim-to-survive-gr-7/
END:VEVENT
BEGIN:VEVENT
DTSTART;VALUE=DATE:20260602
DTEND;VALUE=DATE:20260603
DTSTAMP:20260420T075057
CREATED:20260312T140226Z
LAST-MODIFIED:20260312T140226Z
UID:250774-1780358400-1780444799@bbss1.bhncdsb.ca
SUMMARY:Swim to Survive - Gr. 7
DESCRIPTION:
URL:https://bbss1.bhncdsb.ca/event/swim-to-survive-gr-7-2/
END:VEVENT
BEGIN:VEVENT
DTSTART;VALUE=DATE:20260603
DTEND;VALUE=DATE:20260604
DTSTAMP:20260420T075057
CREATED:20260312T140244Z
LAST-MODIFIED:20260312T140244Z
UID:250776-1780444800-1780531199@bbss1.bhncdsb.ca
SUMMARY:Swim to Survive - Gr. 7
DESCRIPTION:
URL:https://bbss1.bhncdsb.ca/event/swim-to-survive-gr-7-3/
END:VEVENT
BEGIN:VEVENT
DTSTART;VALUE=DATE:20260603
DTEND;VALUE=DATE:20260604
DTSTAMP:20260420T075057
CREATED:20260312T140434Z
LAST-MODIFIED:20260312T140434Z
UID:250778-1780444800-1780531199@bbss1.bhncdsb.ca
SUMMARY:Have a Go
DESCRIPTION:
URL:https://bbss1.bhncdsb.ca/event/have-a-go/
END:VEVENT
BEGIN:VEVENT
DTSTART;VALUE=DATE:20260603
DTEND;VALUE=DATE:20260604
DTSTAMP:20260420T075057
CREATED:20260415T135629Z
LAST-MODIFIED:20260415T135629Z
UID:250869-1780444800-1780531199@bbss1.bhncdsb.ca
SUMMARY:Gr. 8's to Assumption
DESCRIPTION:
URL:https://bbss1.bhncdsb.ca/event/gr-8s-to-assumption/
END:VEVENT
END:VCALENDAR